Workbook
Name \a: '[1]Com-98'!$A$47
Name ________________RED3: "Check Box 8"
Name ________________WT1: #REF!
Name ________________WT1: #REF!
Name ________________WT1: #REF!
Name ________________WT1: #REF!
Name ________________WT5: #REF!
Name ________________WT5: #REF!
Name ________________WT5: #REF!
Name ________________WT5: #REF!
Name ________________WT6: #REF!
Name ________________WT6: #REF!
Name ________________WT6: #REF!
Name ________________WT6: #REF!
Name ________________WT7: #REF!
Name ________________WT7: #REF!
Name ________________WT7: #REF!
Name ________________WT7: #REF!
Name _______________RED3: "Check Box 8"
Name _______________WT1: #REF!
Name _______________WT1: #REF!
Name _______________WT1: #REF!
Name _______________WT1: #REF!
Name _______________WT5: #REF!
Name _______________WT5: #REF!
Name _______________WT5: #REF!
Name _______________WT5: #REF!
Name _______________WT6: #REF!
Name _______________WT6: #REF!
Name _______________WT6: #REF!
Name _______________WT6: #REF!
Name _______________WT7: #REF!
Name _______________WT7: #REF!
Name _______________WT7: #REF!
Name _______________WT7: #REF!
Name ______________RED3: "Check Box 8"
Name ______________WT1: #REF!
Name ______________WT1: #REF!
Name ______________WT1: #REF!
Name ______________WT1: #REF!
Name ______________WT5: #REF!
Name ______________WT5: #REF!
Name ______________WT5: #REF!
Name ______________WT5: #REF!
Name ______________WT6: #REF!
Name ______________WT6: #REF!
Name ______________WT6: #REF!
Name ______________WT6: #REF!
Name ______________WT7: #REF!
Name ______________WT7: #REF!
Name ______________WT7: #REF!
Name ______________WT7: #REF!
Name _____________RED3: "Check Box 8"
Name _____________WT1: #REF!
Name _____________WT1: #REF!
Name _____________WT1: #REF!
Name _____________WT1: #REF!
Name _____________WT5: #REF!
Name _____________WT5: #REF!
Name _____________WT5: #REF!

Sheet MENU
B1: MENU
A2: C.1.1 | B2: Gross Domestic Product at Current Basic Prices - Annual
A4: C1.2 | B4: Gross Domestic Product at 2010 Constant Basic Prices - Annual
A6: C.1.3 | B6: Implicit Price Deflator - Annual
A8: C.1.4 | B8: Gross Domestic Product at Current Basic Price - Quarterly
A10: C.1.5 | B10: Gross Domestic Product at 2010 Constant Basic Price - Quarterly
A12: C.1.6 | B12: Implicit Price Deflator - Quarterly
A14: C.1.7 | B14: Gross Domestic Product by Expenditure and Income at Current Purchasers' Prices - Annual
A16: C.1.8 | B16: Gross Domestic Product by Expenditure and Income at 2010 Constant Purchasers' Prices - Annual
A18: C.1.9 | B18: Gross Domestic Product by Expenditure and Income at Current Purchasers' Prices - Quarterly
A20: C.1.10 | B20: Gross Domestic Product by Expenditure and Income at 2010 Constant Purchasers' Prices - Quarterly
A22: C.1.11 | B22: Rebased Series - Gross Domestic Product at Current Basic Prices - Annual
A24: C.1.12 | B24: Gross Domestic Product at 2019 Constant Basic Prices - Annual
... A60: C.5.1 | B60: Monthly Rainfall Statistics in Some Nigerian Towns

Sheet C1.1
A1: Return to Menu
A2: Table C.1.1: Old Series - Gross Domestic Product at Current Basic Prices - Annual (₦' Billion)
A3: Activity Sector | B3: 1981 | C3: 1982 | D3: 1983 | E3: 1984 | F3: 1985 | G3: 1986 | H3: 1987 | I3: 1988 | J3: 1989 | K3: 1990 | L3: 1991 | M3: 1992 | N3: 1993 | O3: 1994 | P3: 1995 | Q3: 1996 | R3: 1997 | S3: 1998 | T3: 1999 | U3: 2000 | V3: 2001 | W3: 2002 | X3: 2003 | Y3: 2004 | Z3: 2005 | AA3: 2006 | AB3: 2007 | AC3: 2008 | AD3: 2009 | AE3: 2010 | AF3: 2011 | AG3: 2012 | AH3: 2013 | AI3: 2014 | AJ3: 2015 | AK3: 2016 | AL3: 2017 | AM3: 2018 | AN3: 2019 | AO3: 2020 1 | AP3: 2021 1 | AQ3: 2022 1 | AR3: 2023 1 | AS3: 2024 1
A4: A. AGRICULTURE | B4: 17.052176 | C4: 20.125924 | D4: 23.797816 | E4: 30.365185 | F4: 34.237087 | G4: 35.702635 | H4: 50.286938 | I4: 73.764506 | J4: 88.264126 | K4: 106.62669 | L4: 123.23565 | M4: 184.11565 | N4: 295.32459 | O4: 445.27289 | P4: 790.14162 | Q4: 1070.5147 | R4: 1211.462 | S4: 1341.0409 | T4: 1426.9738 | U4: 1508.4088 | V4: 2015.4215 | W4: 4251.5206 | X4: 4585.9257 | Y4: 4935.2638 | Z4: 6032.3324 | AA4: 7513.2978 | AB4: 8551.9814 | AC4: 10100.325 | AD4: 11625.442 | AE4: 13048.893 | AF4: 14037.826 | AG4: 15815.998 | AH4: 16816.553 | AI4: 18018.613 | AJ4: 19636.969 | AK4: 21523.512 | AL4: 23952.554 | AM4: 27371.296 | AN4: 31904.141 | AO4: 37241.609 | AP4: 41126.058 | AQ4: 47944.063 | AR4: 53273.144 | AS4: 56478.981
A5: 1. Crop Production | B5: 12.817213 | C5: 14.324074 | D5: 16.351856 | E5: 21.497546 | F5: 25.066494 | G5: 25.972389 | H5: 39.658652 | I5: 61.848642 | J5: 71.883917 | K5: 86.926202 | L5: 101.64581 | M5: 153.37979 | N5: 249.19593 | O5: 377.30829 | P5: 670.17759 | Q5: 906.89416 | R5: 1026.2915 | S5: 1133.3891 | T5: 1204.7049 | U5: 1270.6288 | V5: 1699.6866 | W5: 3875.4579 | X5: 4161.5655 | Y5: 4419.0624 | Z5: 5372.2039 | AA5: 6723.2165 | AB5: 7654.2202 | AC5: 9039.634 | AD5: 10419.603 | AE5: 11683.896 | AF5: 12484.849 | AG5: 14071.235 | AH5: 14862.325 | AI5: 15812.571 | AJ5: 17189.973 | AK5: 18883.081 | AL5: 21096.105 | AM5: 24207.798 | AN5: 28296.927 | AO5: 33177.538 | AP5: 36349.407 | AQ5: 42677.333 | AR5: 47779.285 | AS5: 50867.623
A6: 2. Livestock | B6: 2.525025 | C6: 3.9626891 | D6: 5.1931508 | E6: 6.6198082 | F6: 7.1626085 | G6: 7.3894126 | H6: 8.3737938 | I6: 8.8898912 | J6: 11.79099 | K6: 14.145871 | L6: 15.57605 | M6: 23.027478 | N6: 36.575989 | O6: 54.304408 | P6: 97.202287 | Q6: 130.40784 | R6: 145.02953 | S6: 158.31425 | T6: 164.37429 | U6: 172.19034 | V6: 228.55788 | W6: 271.02611 | X6: 299.22445 | Y6: 360.80297 | Z6: 463.42003 | AA6: 560.24606 | AB6: 642.27642 | AC6: 758.83977 | AD6: 863.40242 | AE6: 979.56405 | AF6: 1115.6019 | AG6: 1251.9314 | AH6: 1399.4847 | AI6: 1573.0526 | AJ6: 1748.025 | AK6: 1875.7834 | AL6: 1974.4478 | AM6: 2048.6022 | AN6: 2108.945 | AO6: 2121.3707 | AP6: 2249.3398 | AQ6: 2620.2933 | AR6: 2063.4184 | AS6: 2819.0986
A7: 3. Forestry | B7: 1.1595726 | C7: 1.1657296 | D7: 1.2653892 | E7: 1.379841 | F7: 1.467503 | G7: 1.5717585 | H7: 1.5897276 | I7: 1.8599732 | J7: 2.1746939 | K7: 2.3460769 | L7: 2.4366428 | M7: 2.9912822 | N7: 3.9664371 | O7: 5.9822478 | P7: 8.2536864 | Q7: 10.368676 | R7: 12.554396 | S7: 15.881381 | T7: 19.30558 | U7: 24.493947 | V7: 29.980408 | W7: 36.228665 | X7: 44.126955 | Y7: 56.394329 | Z7: 67.450365 | AA7: 80.196052 | AB7: 91.496009 | AC7: 108.10113 | AD7: 121.25466 | AE7: 135.7209 | AF7: 153.04531 | AG7: 170.15966 | AH7: 187.95018 | AI7: 207.73958 | AJ7: 222.82675 | AK7: 236.25498 | AL7: 257.20946 | AM7: 272.79064 | AN7: 285.87867 | AO7: 284.78982 | AP7: 296.95594 | AQ7: 348.83555 | AR7: 432.62163 | AS7: 460.43342
A8: 4. Fishing | B8: 0.55036525 | C8: 0.67343122 | D8: 0.98741912 | E8: 0.86799019 | F8: 0.54048132 | G8: 0.7690748 | H8: 0.66476471 | I8: 1.1659994 | J8: 2.4145248 | K8: 3.2085415 | L8: 3.5771459 | M8: 4.7171001 | N8: 5.5862317 | O8: 7.6779498 | P8: 14.508058 | Q8: 22.844046 | R8: 27.586545 | S8: 33.456215 | T8: 38.589018 | U8: 41.09574 | V8: 57.196609 | W8: 68.80796 | X8: 81.00874 | Y8: 99.004038 | Z8: 129.2581 | AA8: 149.63923 | AB8: 163.98881 | AC8: 193.75028 | AD8: 221.18195 | AE8: 249.71148 | AF8: 284.32942 | AG8: 322.67103 | AH8: 366.79323 | AI8: 425.25011 | AJ8: 476.14421 | AK8: 528.39266 | AL8: 624.79174 | AM8: 842.10503 | AN8: 1212.3902 | AO8: 1657.9104 | AP8: 2230.3559 | AQ8: 2297.6009 | AR8: 2335.49 | AS8: 2331.8263
A9: B. INDUSTRY | B9: 54.672532 | C9: 51.883548 | D9: 54.163087 | E9: 50.329983 | F9: 62.86052 | G9: 65.045385 | H9: 80.46774 | I9: 102.93752 | J9: 146.82676 | K9: 175.15494 | L9: 218.11892 | M9: 341.6601 | N9: 417.05949 | O9: 553.95701 | P9: 1132.8411 | Q9: 1530.0467 | R9: 1557.544 | S9: 1379.1971 | T9: 1609.8217 | U9: 2388.8345 | V9: 2328.4074 | W9: 2650.0305 | X9: 3525.1405 | Y9: 5145.4279 | Z9: 6520.736 | AA9: 7822.1053 | AB9: 8441.7607 | AC9: 9874.3834 | AD9: 9229.8063 | AE9: 13826.434 | AF9: 17853.114 | AG9: 19587.721 | AH9: 20853.845 | AI9: 22213.006 | AJ9: 19188.577 | AK9: 18641.166 | AL9: 25639.902 | AM9: 33218.33 | AN9: 39879.691 | AO9: 43530.784 | AP9: 55300.973 | AQ9: 62278.988 | AR9: 76386.305 | AS9: 82272.011
A10: 1. Mining and Quarrying | B10: 13.118938 | C10: 9.1272922 | D10: 7.995782 | E10: 9.8907671 | F10: 14.001762 | G10: 12.430615 | H10: 22.288526 | I10: 22.559984 | J10: 49.832973 | K10: 63.69415 | L10: 76.781208 | M10: 149.80772 | N10: 144.69376 | O10: 132.90463 | P10: 448.11303 | Q10: 675.58313 | R10: 624.63377 | S10: 433.20461 | T10: 600.46449 | U10: 1274.4814 | V10: 975.77777 | W10: 1051.2865 | X10: 1598.7354 | Y10: 2476.2334 | Z10: 3301.4335 | AA10: 4075.3526 | AB10: 4398.9552 | AC10: 5310.951 | AD10: 4343.0621 | AE10: 8454.5542 | AF10: 11098.978 | AG10: 11386.523 | AH10: 10380.972 | AI10: 9716.7608 | AJ10: 6100.0088 | AK10: 5469.5452 | AL10: 10481.973 | AM10: 13648.664 | AN10: 12769.424 | AO10: 10851.766 | AP10: 10737.582 | AQ10: 13648.265 | AR10: 14866.016 | AS10: 18487.948
A11: a. Crude Petroleum and Natural Gas | B11: 5.9199708 | C11: 4.931246 | D11: 4.2800337 | E11: 5.2350739 | F11: 6.5892246 | G11: 5.537112 | H11: 15.479605 | I11: 17.296377 | J11: 44.331318 | K11: 58.055867 | L11: 67.499314 | M11: 142.97877 | N11: 140.24564 | O11: 126.92229 | P11: 444.01691 | Q11: 670.73733 | R11: 619.22168 | S11: 426.7996 | T11: 593.43617 | U11: 1266.6683 | V11: 966.79364 | W11: 1041.9952 | X11: 1588.0858 | Y11: 2460.5526 | Z11: 3281.4677 | AA11: 4044.969 | AB11: 4363.6267 | AC11: 5270.0071 | AD11: 4297.0729 | AE11: 8402.6764 | AF11: 11039.408 | AG11: 11315.033 | AH11: 10296.327 | AI11: 9616.4895 | AJ11: 5990.4171 | AK11: 5367.3227 | AL11: 10355.946 | AM11: 13423.874 | AN11: 12400.426 | AO11: 10195.626 | AP11: 9636.0179 | AQ11: 11972.758 | AR11: 13106.152 | AS11: 17092.341
A12: b. Coal Mining | B12: 5.3253286 | C12: 2.5692375 | D12: 2.4290972 | E12: 3.5035056 | F12: 6.5398772 | G12: 6.5398772 | H12: 5.8858895 | I12: 4.2509202 | J12: 4.2042068 | K12: 4.2509202 | L12: 7.9879929 | M12: 5.5588956 | N12: 2.8962313 | O12: 4.0173531 | P12: 1.4481157 | Q12: 1.7751095 | R12: 1.9619632 | S12: 2.0086766 | T12: 2.1955302 | U12: 2.4758107 | V12: 2.2422436 | W12: 1.4481157 | X12: 1.4481157 | Y12: 1.6829461 | Z12: 1.550909 | AA12: 1.4193443 | AB12: 1.8581643 | AC12: 2.4343833 | AD12: 2.779882 | AE12: 3.2182308 | AF12: 3.8843802 | AG12: 4.5995446 | AH12: 5.5353307 | AI12: 6.9273527 | AJ12: 7.9834029 | AK12: 8.4943274 | AL12: 9.4352272 | AM12: 9.7821024 | AN12: 12.907644 | AO12: 11.480344 | AP12: 16.335077 | AQ12: 22.199625 | AR12: 24.952915 | AS12: 9.2902802
A13: c. Metal Ores | B13: 0.99685246 | C13: 0.76449434 | D13: 0.62363475 | E13: 0.56885602 | F13: 0.44725929 | G13: 0.11076138 | H13: 0.64530546 | I13: 0.69767633 | J13: 0.7115215 | K13: 0.72596864 | L13: 0.54899121 | M13: 0.34131361 | N13: 0.33288612 | O13: 0.39549038 | P13: 0.55260299 | Q13: 0.63206225 | R13: 0.59594441 | S13: 0.61460529 | T13: 0.64831528 | U13: 0.69406455 | V13: 0.67058795 | W13: 0.69286062 | X13: 0.68744294 | Y13: 0.7850262 | Z13: 0.89671188 | AA13: 1.3370908 | AB13: 1.62165 | AC13: 1.8657961 | AD13: 2.0874995 | AE13: 2.3548433 | AF13: 2.7137363 | AG13: 2.9040495 | AH13: 3.3499792 | AI13: 4.0794233 | AJ13: 4.4615161 | AK13: 5.7427334 | AL13: 7.9331958 | AM13: 10.904019 | AN13: 11.143366 | AO13: 11.558653 | AP13: 17.55764 | AQ13: 23.665706 | AR13: 44.220747 | AS13: 103.5142
A14: d. Quarrying and Other Minerals | B14: 0.87678601 | C14: 0.86231445 | D14: 0.66301634 | E14: 0.58333155 | F14: 0.42540103 | G14: 0.2428648 | H14: 0.27772626 | I14: 0.31500978 | J14: 0.58592589 | K14: 0.66139488 | L14: 0.74491037 | M14: 0.92874377 | N14: 1.219006 | O14: 1.5694954 | P14: 2.0954069 | Q14: 2.43862 | R14: 2.8541808 | S14: 3.7817287 | T14: 4.1844799 | U14: 4.6432223 | V14: 6.0712957 | W14: 7.1503085 | X14: 8.5140301 | Y14: 13.212823 | Z14: 17.518237 | AA14: 27.627152 | AB14: 31.848646 | AC14: 36.643642 | AD14: 41.121838 | AE14: 46.304721 | AF14: 52.971219 | AG14: 63.9858 | AH14: 75.759124 | AI14: 89.26452 | AJ14: 97.146834 | AK14: 87.98544 | AL14: 108.65794 | AM14: 204.10437 | AN14: 344.94711 | AO14: 633.10153 | AP14: 1067.6715 | AQ14: 1629.6414 | AR14: 1690.6906 | AS14: 1282.8026
A15: 2. Manufacturing | B15: 28.229474 | C15: 30.305467 | D15: 33.493514 | E15: 29.416495 | F15: 39.546801 | G15: 41.625673 | H15: 45.95954 | I15: 66.341211 | J15: 76.143696 | K15: 87.960482 | L15: 115.02971 | M15: 159.95488 | N15: 231.02159 | O15: 370.15641 | P15: 619.85219 | Q15: 780.48259 | R15: 848.32719 | S15: 838.52699 | T15: 891.28658 | U15: 984.08139 | V15: 1146.6829 | W15: 1358.5298 | X15: 1635.0533 | Y15: 1968.5575 | Z15: 2326.3115 | AA15: 2689.0759 | AB15: 2913.2577 | AC15: 3263.8248 | AD15: 3406.6882 | AE15: 3578.6417 | AF15: 4527.4451 | AG15: 5588.8217 | AH15: 7233.3225 | AI15: 8685.43 | AJ15: 8973.7732 | AK15: 8903.2363 | AL15: 10044.485 | AM15: 12455.528 | AN15: 16781.064 | AO15: 19539.55 | AP15: 25725.869 | AQ15: 27508.517 | AR15: 28442.905 | AS15: 37486.126
... A62: GDP at Current Market Prices | B62: 139.3105 | C62: 149.05122 | D62: 158.75018 | E62: 165.8542 | F62: 187.83061 | G62: 198.12316 | H62: 244.68021 | I62: 315.61533 | J62: 414.86086 | K62: 494.64367 | L62: 590.05974 | M62: 906.02929 | N62: 1257.1749 | O62: 1768.7915 | P62: 3100.2351 | Q62: 4086.0652 | R62: 4418.7087 | S62: 4805.1564 | T62: 5482.3543 | U62: 7062.7511 | V62: 8234.4937 | W62: 11501.45 | X62: 13556.974 | Y62: 18124.06 | Z62: 23121.879 | AA62: 30375.179 | AB62: 34675.944 | AC62: 39954.212 | AD62: 43461.459 | AE62: 55469.35 | AF62: 63713.359 | AG62: 72599.63 | AH62: 81009.965 | AI62: 90136.985 | AJ62: 95177.736 | AK62: 102575.42 | AL62: 114899.25 | AM62: 129086.91 | AN62: 145639.14 | AO62: 154252.32 | AP62: 176075.5 | AQ62: 202365.03 | AR62: 234425.91 | AS62: 277493.78
A63: Source: National Bureau of Statistics
A64: Note 1Provisional

Sheet C1.2
A1: Return to Menu
A2: Table C.1.2: Gross Domestic Product at 2010 Constant Basic Prices - Annual (₦' Billion)
A3: Activity Sector | B3: 1981 | C3: 1982 | D3: 1983 | E3: 1984 | F3: 1985 | G3: 1986 | H3: 1987 | I3: 1988 | J3: 1989 | K3: 1990 | L3: 1991 | M3: 1992 | N3: 1993 | O3: 1994 | P3: 1995 | Q3: 1996 | R3: 1997 | S3: 1998 | T3: 1999 | U3: 2000 | V3: 2001 | W3: 2002 | X3: 2003 | Y3: 2004 | Z3: 2005 | AA3: 2006 | AB3: 2007 | AC3: 2008 | AD3: 2009 | AE3: 2010 | AF3: 2011 | AG3: 2012 | AH3: 2013 | AI3: 2014 | AJ3: 2015 | AK3: 2016 | AL3: 2017 | AM3: 2018 | AN3: 2019 | AO3: 2020 1 | AP3: 2021 1 | AQ3: 2022 1 | AR3: 2023 1 | AS3: 2024 1
A4: A. AGRICULTURE | B4: 2364.3731 | C4: 2425.9609 | D4: 2409.0819 | E4: 2303.5054 | F4: 2731.0625 | G4: 2986.8354 | H4: 2891.6723 | I4: 3174.5676 | J4: 3325.9471 | K4: 3464.7163 | L4: 3590.8374 | M4: 3674.7928 | N4: 3743.6658 | O4: 3839.6754 | P4: 3977.3819 | Q4: 4133.5482 | R4: 4305.6796 | S4: 4475.2414 | T4: 4703.6437 | U4: 4840.9712 | V4: 5024.5421 | W4: 7817.0845 | X4: 8364.8321 | Y4: 8888.5734 | Z4: 9516.9915 | AA4: 10222.475 | AB4: 10958.469 | AC4: 11645.371 | AD4: 12330.326 | AE4: 13048.893 | AF4: 13429.379 | AG4: 14329.706 | AH4: 14750.523 | AI4: 15380.389 | AJ4: 15952.22 | AK4: 16607.337 | AL4: 17179.495 | AM4: 17544.148 | AN4: 17958.584 | AO4: 18348.176 | AP4: 18738.414 | AQ4: 19091.073 | AR4: 19306.49 | AS4: 19535.879
A5: 1. Crop Production | B5: 1854.7644 | C5: 1897.0789 | D5: 1842.7043 | E5: 1759.1152 | F5: 2180.9077 | G5: 2427.1007 | H5: 2329.9958 | I5: 2581.5951 | J5: 2710.6748 | K5: 2828.5896 | L5: 2955.8759 | M5: 3044.5522 | N5: 3132.8437 | O5: 3226.8296 | P5: 3336.5414 | Q5: 3462.996 | R5: 3611.9053 | S5: 3752.7696 | T5: 3949.4152 | U5: 4067.8976 | V5: 4222.4774 | W5: 6977.8788 | X5: 7493.0242 | Y5: 7956.6551 | Z5: 8524.1469 | AA5: 9162.6503 | AB5: 9826.7691 | AC5: 10437.994 | AD5: 11046.156 | AE5: 11683.896 | AF5: 12017.192 | AG5: 12919.542 | AH5: 13247.802 | AI5: 13793.45 | AJ5: 14274.937 | AK5: 14894.448 | AL5: 15437.05 | AM5: 15786.438 | AN5: 16181.993 | AO5: 16544.521 | AP5: 16920.524 | AQ5: 17260.752 | AR5: 17585.429 | AS5: 17865.59
A6: 2. Livestock | B6: 341.4115 | C6: 361.1157 | D6: 393.13101 | E6: 399.68538 | F6: 428.10285 | G6: 421.62797 | H6: 433.43352 | I6: 444.26994 | J6: 453.15559 | K6: 462.21899 | L6: 454.82321 | M6: 458.91679 | N6: 461.67056 | O6: 466.28756 | P6: 485.87207 | Q6: 499.96245 | R6: 512.46113 | S6: 526.29784 | T6: 541.03401 | U6: 553.47821 | V6: 570.08286 | W6: 597.49838 | X6: 622.55931 | Y6: 663.02591 | Z6: 707.87101 | AA6: 756.73419 | AB6: 809.16494 | AC6: 864.18816 | AD6: 920.19922 | AE6: 979.56405 | AF6: 999.40404 | AG6: 972.76279 | AH6: 1030.9373 | AI6: 1086.847 | AJ6: 1151.3234 | AK6: 1185.1184 | AL6: 1204.2052 | AM6: 1208.128 | AN6: 1210.0554 | AO6: 1233.1148 | AP6: 1240.2154 | AQ6: 1247.7194 | AR6: 1140.2358 | AS6: 1087.3139
A7: 3. Forestry | B7: 77.897986 | C7: 73.91025 | D7: 75.282779 | E7: 76.694141 | F7: 78.082446 | G7: 86.594916 | H7: 87.594277 | I7: 88.907948 | J7: 67.307306 | K7: 72.613568 | L7: 74.791896 | M7: 76.512108 | N7: 78.042399 | O7: 80.07146 | P7: 81.832932 | Q7: 82.2419 | R7: 82.982167 | S7: 83.977888 | T7: 85.070086 | U7: 86.346137 | V7: 88.072904 | W7: 88.690223 | X7: 90.021497 | Y7: 95.873021 | Z7: 101.5468 | AA7: 107.65807 | AB7: 114.24934 | AC7: 121.21855 | AD7: 128.31312 | AE7: 135.7209 | AF7: 142.45938 | AG7: 146.09408 | AH7: 154.31417 | AI7: 161.3382 | AJ7: 167.25841 | AK7: 171.64265 | AL7: 177.32697 | AM7: 182.74793 | AN7: 187.47487 | AO7: 190.50805 | AP7: 193.22432 | AQ7: 196.35719 | AR7: 199.82663 | AS7: 204.67885
A8: 4. Fishing | B8: 90.299226 | C8: 93.856084 | D8: 97.963819 | E8: 68.010739 | F8: 43.969459 | G8: 51.511833 | H8: 40.648692 | I8: 59.794672 | J8: 94.809388 | K8: 101.29412 | L8: 105.34641 | M8: 94.811773 | N8: 71.109128 | O8: 66.486882 | P8: 73.135571 | Q8: 88.347903 | R8: 98.331071 | S8: 112.19602 | T8: 128.12437 | U8: 133.2492 | V8: 143.90893 | W8: 153.0171 | X8: 159.2271 | Y8: 173.0194 | Z8: 183.42685 | AA8: 195.43246 | AB8: 208.28576 | AC8: 221.97014 | AD8: 235.65762 | AE8: 249.71148 | AF8: 270.32335 | AG8: 291.30671 | AH8: 317.46991 | AI8: 338.75412 | AJ8: 358.70161 | AK8: 356.12842 | AL8: 360.91336 | AM8: 366.83408 | AN8: 379.06048 | AO8: 380.03251 | AP8: 384.45087 | AQ8: 386.2438 | AR8: 380.99875 | AS8: 378.29605
A9: B. INDUSTRY | B9: 11753.403 | C9: 10189.096 | D9: 8255.7605 | E9: 8392.2459 | F9: 8768.2972 | G9: 8347.5343 | H9: 8799.3758 | I9: 9514.8051 | J9: 9442.8273 | K9: 11148.101 | L9: 10910.564 | M9: 11578.982 | N9: 10790.306 | O9: 10151.697 | P9: 9845.9737 | Q9: 10402.188 | R9: 10599.699 | S9: 10641.264 | T9: 10201.812 | U9: 10962.843 | V9: 11576.315 | W9: 11725.425 | X9: 13151.226 | Y9: 13382.862 | Z9: 13609.76 | AA9: 13342.47 | AB9: 13085.267 | AC9: 12817.786 | AD9: 13138.946 | AE9: 13826.434 | AF9: 14986.622 | AG9: 15350.452 | AH9: 15682.465 | AI9: 16742.153 | AJ9: 16366.657 | AK9: 14918.147 | AL9: 15238.28 | AM9: 15523.428 | AN9: 15882.346 | AO9: 14953.715 | AP9: 14883.774 | AQ9: 14195.583 | AR9: 14298.466 | AS9: 14648.105
A10: 1. Mining and Quarrying | B10: 5044.5534 | C10: 4507.9341 | D10: 4096.9925 | E10: 4602.2746 | F10: 4962.8116 | G10: 4860.7452 | H10: 4737.2294 | I10: 4856.7296 | J10: 5435.6683 | K10: 6860.853 | L10: 6265.2957 | M10: 6411.864 | N10: 6415.3831 | O10: 6246.6722 | P10: 6393.0531 | Q10: 6850.3721 | R10: 6952.0856 | S10: 7103.3848 | T10: 6572.8941 | U10: 7302.9885 | V10: 7685.3722 | W10: 7247.857 | X10: 8975.8121 | Y10: 9275.1444 | Z10: 9323.7508 | AA10: 8907.4688 | AB10: 8508.8216 | AC10: 7989.1874 | AD10: 8030.0101 | AE10: 8454.5542 | AF10: 8658.0549 | AG10: 8244.3861 | AH10: 7188.1515 | AI10: 7107.0296 | AJ10: 6732.5076 | AK10: 5759.8167 | AL10: 6025.78 | AM10: 6092.4771 | AN10: 6362.6308 | AO10: 5819.3912 | AP10: 5366.1934 | AQ10: 4391.4247 | AR10: 4266.505 | AS10: 4473.2374
A11: a. Crude Petroleum and Natural Gas | B11: 4977.4167 | C11: 4453.0936 | D11: 4052.9777 | E11: 4559.1962 | F11: 4918.2725 | G11: 4825.4975 | H11: 4704.4234 | I11: 4828.6823 | J11: 5407.0095 | K11: 6831.7677 | L11: 6224.4521 | M11: 6381.2596 | N11: 6394.6026 | O11: 6229.4586 | P11: 6375.9706 | Q11: 6832.8367 | R11: 6933.581 | S11: 7083.9876 | T11: 6552.6885 | U11: 7281.9439 | V11: 7662.9799 | W11: 7225.6782 | X11: 8952.6152 | Y11: 9248.0516 | Z11: 9294.0514 | AA11: 8874.6999 | AB11: 8471.9483 | AC11: 7947.7183 | AD11: 7983.628 | AE11: 8402.6764 | AF11: 8598.6366 | AG11: 8173.2558 | AH11: 7105.2834 | AI11: 7011.8148 | AJ11: 6629.9637 | AK11: 5672.207 | AL11: 5938.0477 | AM11: 5995.8751 | AN11: 6270.8592 | AO11: 5713.1959 | AP11: 5239.0544 | AQ11: 4231.9034 | AR11: 4138.1595 | AS11: 4367.2429
A12: b. Coal Mining | B12: 21.325684 | C12: 10.288707 | D12: 9.7275049 | E12: 14.030055 | F12: 26.189436 | G12: 26.189436 | H12: 21.512751 | I12: 15.526594 | J12: 15.339527 | K12: 15.526594 | L12: 27.498908 | M12: 17.397268 | N12: 6.9214939 | O12: 2.806011 | P12: 2.2448088 | Q12: 2.4318762 | R12: 2.6189436 | S12: 2.6189436 | T12: 2.806011 | U12: 2.9930784 | V12: 2.7299507 | W12: 1.7062192 | X12: 1.7062192 | Y12: 1.8768411 | Z12: 2.0645252 | AA12: 2.2709777 | AB12: 2.4979729 | AC12: 2.7173227 | AD12: 2.9578536 | AE12: 3.2182308 | AF12: 3.8746935 | AG12: 4.5766328 | AH12: 5.496764 | AI12: 6.5876954 | AJ12: 7.2720548 | AK12: 7.344651 | AL12: 7.2380044 | AM12: 6.8172272 | AN12: 7.7136321 | AO12: 6.1326912 | AP12: 7.711697 | AQ12: 8.1930194 | AR12: 7.2454705 | AS12: 2.4934158
A13: c. Metal Ores | B13: 7.8629668 | C13: 5.8709112 | D13: 4.8222558 | E13: 3.6839383 | F13: 2.670368 | G13: 0.62373559 | H13: 2.0739208 | I13: 2.3623985 | J13: 2.4091787 | K13: 2.1440911 | L13: 1.4735753 | M13: 0.87322983 | N13: 0.90831495 | O13: 1.0681472 | P13: 1.1383175 | Q13: 1.2396745 | R13: 1.1344191 | S13: 1.1422158 | T13: 1.1695042 | U13: 1.2045894 | V13: 1.1307147 | W13: 1.1360483 | X13: 1.0933798 | Y13: 1.212496 | Z13: 1.344658 | AA13: 1.5087905 | AB13: 1.6898649 | AC13: 1.8923084 | AD13: 2.1102071 | AE13: 2.3548433 | AF13: 2.7069689 | AG13: 2.8895836 | AH13: 3.3266386 | AI13: 3.8789393 | AJ13: 4.1609185 | AK13: 5.0237911 | AL13: 6.0971395 | AM13: 7.7029001 | AN13: 6.5952748 | AO13: 6.2095552 | AP13: 8.3324859 | AQ13: 9.6642834 | AR13: 14.527388 | AS13: 25.456839
A14: d. Quarrying and Other Minerals | B14: 37.948075 | C14: 38.68088 | D14: 29.465082 | E14: 25.364374 | F14: 15.679282 | G14: 8.4345213 | H14: 9.2193227 | I14: 10.158352 | J14: 10.910105 | K14: 11.414651 | L14: 11.871167 | M14: 12.333852 | N14: 12.950764 | O14: 13.33942 | P14: 13.699432 | Q14: 13.863796 | R14: 14.751269 | S14: 15.636098 | T14: 16.230097 | U14: 16.84701 | V14: 18.531668 | W14: 19.336556 | X14: 20.397323 | Y14: 24.003459 | Z14: 26.29023 | AA14: 28.989077 | AB14: 32.68546 | AC14: 36.859397 | AD14: 41.314096 | AE14: 46.304721 | AF14: 52.836612 | AG14: 63.664043 | AH14: 74.04472 | AI14: 84.748233 | AJ14: 91.110835 | AK14: 75.241299 | AL14: 74.397174 | AM14: 82.081898 | AN14: 77.462696 | AO14: 93.853104 | AP14: 111.09485 | AQ14: 141.66402 | AR14: 106.57264 | AS14: 78.044271
A15: 2. Manufacturing | B15: 5838.8944 | C15: 4984.7868 | D15: 3537.7226 | E15: 3282.5172 | F15: 3453.7168 | G15: 3137.5088 | H15: 3680.7137 | I15: 4237.7956 | J15: 3568.6866 | K15: 3825.609 | L15: 4165.392 | M15: 4667.7568 | N15: 3850.4106 | O15: 3364.5685 | P15: 2898.4743 | Q15: 2990.6887 | R15: 3051.9108 | S15: 2908.2138 | T15: 2975.6152 | U15: 2980.6517 | V15: 3050.5051 | W15: 3591.4021 | X15: 3203.242 | Y15: 3169.2111 | Z15: 3242.1968 | AA15: 3268.5501 | AB15: 3271.6545 | AC15: 3369.7125 | AD15: 3491.2935 | AE15: 3578.6417 | AF15: 4216.1913 | AG15: 4783.6594 | AH15: 5826.3584 | AI15: 6684.2177 | AJ15: 6586.6186 | AK15: 6302.2324 | AL15: 6288.8968 | AM15: 6420.5903 | AN15: 6469.8319 | AO15: 6291.5921 | AP15: 6502.2576 | AQ15: 6661.3918 | AR15: 6754.9593 | AS15: 6848.4613
... A62: GDP at 2010 Constant Market Prices | B62: 19748.534 | C62: 18404.965 | D62: 16394.391 | E62: 16211.491 | F62: 17170.081 | G62: 17180.545 | H62: 17730.344 | I62: 19030.692 | J62: 19395.964 | K62: 21680.205 | L62: 21757.896 | M62: 22765.546 | N62: 22302.24 | O62: 21897.472 | P62: 21881.56 | Q62: 22799.693 | R62: 23469.343 | S62: 24075.146 | T62: 24215.776 | U62: 25430.423 | V62: 26935.316 | W62: 31064.272 | X62: 33346.625 | Y62: 36431.374 | Z62: 38777.014 | AA62: 41126.679 | AB62: 43837.392 | AC62: 46802.76 | AD62: 50564.263 | AE62: 55469.35 | AF62: 58180.352 | AG62: 60670.05 | AH62: 63942.846 | AI62: 67977.459 | AJ62: 69780.693 | AK62: 68652.43 | AL62: 69205.691 | AM62: 70536.349 | AN62: 72094.094 | AO62: 70800.543 | AP62: 73382.771 | AQ62: 74752.417 | AR62: 77936.1 | AS62: 80606.533
A63: Source: National Bureau of Statistics
A64: Note 1Provisional

Sheet C1.3 
A1: Return to Menu
A2: Table C.1.3: Old Series - Implicit Price Deflator - Annual
A3: Activity Sector | B3: 1981 | C3: 1982 | D3: 1983 | E3: 1984 | F3: 1985 | G3: 1986 | H3: 1987 | I3: 1988 | J3: 1989 | K3: 1990 | L3: 1991 | M3: 1992 | N3: 1993 | O3: 1994 | P3: 1995 | Q3: 1996 | R3: 1997 | S3: 1998 | T3: 1999 | U3: 2000 | V3: 2001 | W3: 2002 | X3: 2003 | Y3: 2004 | Z3: 2005 | AA3: 2006 | AB3: 2007 | AC3: 2008 | AD3: 2009 | AE3: 2010 | AF3: 2011 | AG3: 2012 | AH3: 2013 | AI3: 2014 | AJ3: 2015 | AK3: 2016 | AL3: 2017 | AM3: 2018 | AN3: 2019 | AO3: 2020 1 | AP3: 2021 1 | AQ3: 2022 1 | AR3: 2023 1 | AS3: 2024 1
A4: A. AGRICULTURE | B4: 0.72121339 | C4: 0.82960628 | D4: 0.98783754 | E4: 1.3182163 | F4: 1.2536179 | G4: 1.1953332 | H4: 1.7390261 | I4: 2.323608 | J4: 2.6538043 | K4: 3.0775014 | L4: 3.4319472 | M4: 5.0102321 | N4: 7.8886471 | O4: 11.596628 | P4: 19.865872 | Q4: 25.898204 | R4: 28.13637 | S4: 29.965778 | T4: 30.337626 | U4: 31.159218 | V4: 40.111546 | W4: 54.387549 | X4: 54.823882 | Y4: 55.523688 | Z4: 63.384867 | AA4: 73.497835 | AB4: 78.039928 | AC4: 86.732533 | AD4: 94.283337 | AE4: 100 | AF4: 104.53072 | AG4: 110.3721 | AH4: 114.00648 | AI4: 117.15316 | AJ4: 123.09866 | AK4: 129.60243 | AL4: 139.42525 | AM4: 156.01382 | AN4: 177.65399 | AO4: 202.97172 | AP4: 219.47464 | AQ4: 251.1334 | AR4: 275.93386 | AS4: 289.10387
A5: 1. Crop Production | B5: 0.69104262 | C5: 0.75505949 | D5: 0.88738363 | E5: 1.2220659 | F5: 1.1493606 | G5: 1.0700994 | H5: 1.7020911 | I5: 2.395753 | J5: 2.6518827 | K5: 3.0731288 | L5: 3.4387711 | M5: 5.0378441 | N5: 7.9543044 | O5: 11.692848 | P5: 20.085997 | Q5: 26.188138 | R5: 28.414131 | S5: 30.201402 | T5: 30.503375 | U5: 31.235515 | V5: 40.253303 | W5: 55.539198 | X5: 55.539198 | Y5: 55.539198 | Z5: 63.023362 | AA5: 73.37633 | AB5: 77.891524 | AC5: 86.603172 | AD5: 94.32787 | AE5: 100 | AF5: 103.89157 | AG5: 108.91435 | AH5: 112.1871 | AI5: 114.63826 | AJ5: 120.42066 | AK5: 126.77933 | AL5: 136.65892 | AM5: 153.34554 | AN5: 174.86676 | AO5: 200.5349 | AP5: 214.82441 | AQ5: 247.25069 | AR5: 271.69814 | AS5: 284.724
A6: 2. Livestock | B6: 0.73958407 | C6: 1.0973461 | D6: 1.320972 | E6: 1.6562548 | F6: 1.6731046 | G6: 1.7525907 | H6: 1.9319673 | I6: 2.0010112 | J6: 2.6019739 | K6: 3.0604263 | L6: 3.4246383 | M6: 5.0177894 | N6: 7.9225302 | O6: 11.64612 | P6: 20.005737 | Q6: 26.083528 | R6: 28.300591 | S6: 30.080734 | T6: 30.381508 | U6: 31.110591 | V6: 40.092046 | W6: 45.36014 | X6: 48.063606 | Y6: 54.417628 | Z6: 65.466734 | AA6: 74.034722 | AB6: 79.375216 | AC6: 87.809554 | AD6: 93.827771 | AE6: 100 | AF6: 111.62672 | AG6: 128.69852 | AH6: 135.74877 | AI6: 144.73542 | AJ6: 151.82746 | AK6: 158.27813 | AL6: 163.96273 | AM6: 169.5683 | AN6: 174.285 | AO6: 172.03351 | AP6: 181.36619 | AQ6: 210.00635 | AR6: 180.96419 | AS6: 259.27183
A7: 3. Forestry | B7: 1.4885784 | C7: 1.5772233 | D7: 1.6808482 | E7: 1.7991479 | F7: 1.8794276 | G7: 1.8150702 | H7: 1.8148761 | I7: 2.0920213 | J7: 3.2309924 | K7: 3.2309071 | L7: 3.2578968 | M7: 3.909554 | N7: 5.0824131 | O7: 7.4711361 | P7: 10.086021 | Q7: 12.607535 | R7: 15.129029 | S7: 18.911384 | T7: 22.693736 | U7: 28.36716 | V7: 34.040444 | W7: 40.848545 | X7: 49.018242 | Y7: 58.821896 | Z7: 66.422937 | AA7: 74.491444 | AB7: 80.084494 | AC7: 89.178703 | AD7: 94.499033 | AE7: 100 | AF7: 107.43084 | AG7: 116.47266 | AH7: 121.7971 | AI7: 128.76032 | AJ7: 133.22305 | AK7: 137.64352 | AL7: 145.04813 | AM7: 149.27153 | AN7: 152.48906 | AO7: 149.48965 | AP7: 153.68799 | AQ7: 177.65583 | AR7: 216.49848 | AS7: 224.95408
A8: 4. Fishing | B8: 0.60949055 | C8: 0.71751472 | D8: 1.0079427 | E8: 1.2762546 | F8: 1.2292199 | G8: 1.4930061 | H8: 1.6353902 | I8: 1.9500056 | J8: 2.5467148 | K8: 3.1675494 | L8: 3.3956029 | M8: 4.9752262 | N8: 7.8558574 | O8: 11.548067 | P8: 19.837211 | Q8: 25.856919 | R8: 28.054759 | S8: 29.819431 | T8: 30.118406 | U8: 30.841265 | V8: 39.745003 | W8: 44.967496 | X8: 50.876227 | Y8: 57.22135 | Z8: 70.46847 | AA8: 76.568262 | AB8: 78.732608 | AC8: 87.28664 | AD8: 93.857332 | AE8: 100 | AF8: 105.18123 | AG8: 110.76677 | AH8: 115.53638 | AI8: 125.53356 | AJ8: 132.74103 | AK8: 148.37138 | AL8: 173.11405 | AM8: 229.56019 | AN8: 319.84083 | AO8: 436.2549 | AP8: 580.14199 | AQ8: 594.85744 | AR8: 612.99153 | AS8: 616.4025
A9: B. INDUSTRY | B9: 0.46516343 | C9: 0.5092066 | D9: 0.65606418 | E9: 0.59972008 | F9: 0.71690681 | G9: 0.77921675 | H9: 0.91447101 | I9: 1.0818668 | J9: 1.5549025 | K9: 1.571164 | L9: 1.9991534 | M9: 2.950692 | N9: 3.8651313 | O9: 5.4567924 | P9: 11.505628 | Q9: 14.708893 | R9: 14.694229 | S9: 12.96084 | T9: 15.779762 | U9: 21.790283 | V9: 20.113545 | W9: 22.600721 | X9: 26.804654 | Y9: 38.447889 | Z9: 47.912204 | AA9: 58.625617 | AB9: 64.513478 | AC9: 77.036575 | AD9: 70.247691 | AE9: 100 | AF9: 119.12701 | AG9: 127.60355 | AH9: 132.97556 | AI9: 132.67711 | AJ9: 117.24188 | AK9: 124.95631 | AL9: 168.25982 | AM9: 213.98837 | AN9: 251.09446 | AO9: 291.10347 | AP9: 371.55219 | AQ9: 438.7209 | AR9: 534.22728 | AS9: 561.65635
A10: 1. Mining and Quarrying | B10: 0.26006143 | C10: 0.20247173 | D10: 0.19516223 | E10: 0.21491041 | F10: 0.28213366 | G10: 0.25573477 | H10: 0.47049707 | I10: 0.46450978 | J10: 0.9167773 | K10: 0.92837072 | L10: 1.2255001 | M10: 2.3364145 | N10: 2.2554189 | O10: 2.1276069 | P10: 7.0093744 | Q10: 9.8619917 | R10: 8.9848401 | S10: 6.0985659 | T10: 9.1354658 | U10: 17.451505 | V10: 12.696558 | W10: 14.50479 | X10: 17.811596 | Y10: 26.697518 | Z10: 35.408856 | AA10: 45.752084 | AB10: 51.698759 | AC10: 66.476735 | AD10: 54.085387 | AE10: 100 | AF10: 128.19251 | AG10: 138.11244 | AH10: 144.41782 | AI10: 136.72042 | AJ10: 90.605302 | AK10: 94.960403 | AL10: 173.95213 | AM10: 224.02488 | AN10: 200.69409 | AO10: 186.47597 | AP10: 200.09694 | AQ10: 310.79344 | AR10: 348.43546 | AS10: 413.30129
A11: a. Crude Petroleum and Natural Gas | B11: 0.11893661 | C11: 0.11073753 | D11: 0.1056022 | E11: 0.11482449 | F11: 0.13397437 | G11: 0.11474697 | H11: 0.32904361 | I11: 0.35820078 | J11: 0.81988609 | K11: 0.84979275 | L11: 1.0844218 | M11: 2.2406041 | N11: 2.1931878 | O11: 2.037453 | P11: 6.9639109 | Q11: 9.8163817 | R11: 8.930763 | S11: 6.0248496 | T11: 9.0563769 | U11: 17.394645 | V11: 12.616419 | W11: 14.420725 | X11: 17.738792 | Y11: 26.606173 | Z11: 35.307182 | AA11: 45.578657 | AB11: 51.506768 | AC11: 66.308428 | AD11: 53.823561 | AE11: 100 | AF11: 128.38557 | AG11: 138.43973 | AH11: 144.91086 | AI11: 137.14694 | AJ11: 90.353692 | AK11: 94.624944 | AL11: 174.39985 | AM11: 223.88515 | AN11: 197.74684 | AO11: 178.45749 | AP11: 183.92682 | AQ11: 282.91667 | AR11: 316.71452 | AS11: 391.37601
A12: b. Coal Mining | B12: 24.971432 | C12: 24.971432 | D12: 24.971432 | E12: 24.971432 | F12: 24.971432 | G12: 24.971432 | H12: 27.360003 | I12: 27.378317 | J12: 27.407669 | K12: 27.378317 | L12: 29.0484 | M12: 31.952692 | N12: 41.844021 | O12: 143.16954 | P12: 64.509532 | Q12: 72.993415 | R12: 74.914295 | S12: 76.697968 | T12: 78.243819 | U12: 82.717867 | V12: 82.13495 | W12: 84.872781 | X12: 84.872781 | Y12: 89.669078 | Z12: 75.121825 | AA12: 62.49926 | AB12: 74.386886 | AC12: 89.587566 | AD12: 93.983082 | AE12: 100 | AF12: 100.25 | AG12: 100.50063 | AH12: 100.70163 | AI12: 105.15594 | AJ12: 109.78194 | AK12: 115.65325 | AL12: 130.35675 | AM12: 143.49093 | AN12: 167.33549 | AO12: 187.19913 | AP12: 211.8687 | AQ12: 270.96237 | AR12: 344.3933 | AS12: 372.5925
A13: c. Metal Ores | B13: 12.677816 | C13: 13.021732 | D13: 12.932428 | E13: 15.441519 | F13: 16.748976 | G13: 17.757746 | H13: 31.115241 | I13: 29.532541 | J13: 29.533778 | K13: 33.859039 | L13: 37.255727 | M13: 39.086344 | N13: 36.648755 | O13: 37.025831 | P13: 48.545596 | Q13: 50.986146 | R13: 52.533002 | S13: 53.808159 | T13: 55.435052 | U13: 57.618353 | V13: 59.306556 | W13: 60.98866 | X13: 62.873207 | Y13: 64.744645 | Z13: 66.686984 | AA13: 88.620044 | AB13: 95.963288 | AC13: 98.598947 | AD13: 98.923915 | AE13: 100 | AF13: 100.25 | AG13: 100.50063 | AH13: 100.70163 | AI13: 105.16853 | AJ13: 107.22431 | AK13: 114.31075 | AL13: 130.11341 | AM13: 141.55732 | AN13: 168.95985 | AO13: 186.14301 | AP13: 210.77599 | AQ13: 244.92245 | AR13: 304.39571 | AS13: 406.62629
A14: d. Quarrying and Other Minerals | B14: 2.3104887 | C14: 2.2293041 | D14: 2.2501764 | E14: 2.2998066 | F14: 2.713141 | G14: 2.8794141 | H14: 3.0124367 | I14: 3.1009929 | J14: 5.3704883 | K14: 5.7942626 | L14: 6.2749549 | M14: 7.5300385 | N14: 9.4126179 | O14: 11.765845 | P14: 15.295574 | Q14: 17.589844 | R14: 19.348714 | S14: 24.185885 | T14: 25.782223 | U14: 27.561106 | V14: 32.761733 | W14: 36.97819 | X14: 41.740919 | Y14: 55.045495 | Z14: 66.63402 | AA14: 95.301938 | AB14: 97.439797 | AC14: 99.414655 | AD14: 99.534643 | AE14: 100 | AF14: 100.25476 | AG14: 100.5054 | AH14: 102.31536 | AI14: 105.32906 | AJ14: 106.6249 | AK14: 116.93769 | AL14: 146.05117 | AM14: 248.65942 | AN14: 445.30739 | AO14: 674.56642 | AP14: 961.08692 | AQ14: 1150.3556 | AR14: 1586.4209 | AS14: 1643.6858
A15: 2. Manufacturing | B15: 0.48347294 | C15: 0.60795914 | D15: 0.94675355 | E15: 0.89615662 | F15: 1.1450505 | G15: 1.326711 | H15: 1.2486584 | I15: 1.5654651 | J15: 2.1336616 | K15: 2.2992544 | L15: 2.7615579 | M15: 3.426804 | N15: 5.999921 | O15: 11.001602 | P15: 21.385465 | Q15: 26.097086 | R15: 27.796592 | S15: 28.833058 | T15: 29.953018 | U15: 33.015645 | V15: 37.589935 | W15: 37.827283 | X15: 51.043701 | Y15: 62.115062 | Z15: 71.751089 | AA15: 82.271215 | AB15: 89.045396 | AC15: 96.857662 | AD15: 97.576675 | AE15: 100 | AF15: 107.38234 | AG15: 116.83151 | AH15: 124.14826 | AI15: 129.93936 | AJ15: 136.24249 | AK15: 141.27115 | AL15: 159.71776 | AM15: 193.9935 | AN15: 259.37404 | AO15: 310.56607 | AP15: 395.64503 | AQ15: 412.95454 | AR15: 421.06701 | AS15: 547.36567
... A58: Total GDP | B58: 0.7055368 | C58: 0.80997617 | D58: 0.96854732 | E58: 1.0232232 | F58: 1.0941376 | G58: 1.1534089 | H58: 1.3802428 | I58: 1.6587543 | J58: 2.1392871 | K58: 2.2819389 | L58: 2.7124434 | M58: 3.9806252 | N58: 5.6381686 | O58: 8.0790327 | P58: 14.17065 | Q58: 17.924345 | R58: 18.830327 | S58: 19.9612 | T58: 22.640868 | U58: 27.774125 | V58: 30.571784 | W58: 37.025817 | X58: 40.654736 | Y58: 49.749048 | Z58: 59.629011 | AA58: 73.860549 | AB58: 79.101007 | AC58: 85.367908 | AD58: 85.952195 | AE58: 100 | AF58: 109.5101 | AG58: 119.66305 | AH58: 126.69121 | AI58: 132.59854 | AJ58: 136.39467 | AK58: 149.40033 | AL58: 166.02425 | AM58: 183.0042 | AN58: 202.00992 | AO58: 217.56115 | AP58: 239.70005 | AQ58: 267.06519 | AR58: 299.81498 | AS58: 339.62974
A59: Source: National Bureau of Statistics
A60: Note 1Provisional

Sheet C1.4
A1: Return to Menu
A2: Table C.1.4:Old Series - Gross Domestic Product at Current Basic Prices - Quarterly (₦' Billion)
A3: Activity Sector | B3: 2010 | F3: 2011 | G3: 2011 | J3: 2012 | L3: 2012 | N3: 2013 | Q3: 2013 | R3: 2014 | V3: 2015 | Z3: 2016 | AA3: 2016 | AD3: 2017 | AF3: 2017 | AH3: 2018 | AK3: 2018 | AL3: 2019 | AP3: 2020 1 | AT3: 2021 1 | AU3: 2021 1 | AX3: 2022 1 | AY3: 2022 1 | BB3: 2023 1 | BC3: 2022 1 | BF3: 2024 1 | BG3: 2022 1
B4: Q1 | C4: Q2 | D4: Q3 | E4: Q4 | F4: Q1 | G4: Q2 | H4: Q3 | I4: Q4 | J4: Q1 | K4: Q2 | L4: Q3 | M4: Q4 | N4: Q1 | O4: Q2 | P4: Q3 | Q4: Q4 | R4: Q1 | S4: Q2 | T4: Q3 | U4: Q4 | V4: Q1 | W4: Q2 | X4: Q3 | Y4: Q4 | Z4: Q1 | AA4: Q2 | AB4: Q3 | AC4: Q4 | AD4: Q1 | AE4: Q2 | AF4: Q3 | AG4: Q4 | AH4: Q1 | AI4: Q2 | AJ4: Q3 | AK4: Q4 | AL4: Q1 | AM4: Q2 | AN4: Q3 | AO4: Q4 | AP4: Q1 | AQ4: Q2 | AR4: Q3 | AS4: Q4 | AT4: Q1 | AU4: Q2 | AV4: Q3 | AW4: Q4 | AX4: Q1 | AY4: Q2 | AZ4: Q3 | BA4: Q4 | BB4: Q1 | BC4: Q2 | BD4: Q3 | BE4: Q4 | BF4: Q1 2024 1 | BG4: Q2 2024 1 | BH4: Q3 2024 1 | BI4: Q4 2024 1
A5: A. AGRICULTURE | B5: 2594.7599 | C5: 2873.3776 | D5: 4000.0286 | E5: 3580.7267 | F5: 2768.4657 | G5: 3000.7004 | H5: 4283.2579 | I5: 3985.4018 | J5: 3107.5078 | K5: 3309.8636 | L5: 4676.896 | M5: 4721.7301 | N5: 3286.1133 | O5: 3511.1308 | P5: 4992.2047 | Q5: 5027.1042 | R5: 3479.9645 | S5: 3745.2748 | T5: 5450.7511 | U5: 5342.6226 | V5: 3738.8602 | W5: 4088.6425 | X5: 5959.4679 | Y5: 5849.9984 | Z5: 4267.8911 | AA5: 4629.8591 | AB5: 6398.4627 | AC5: 6227.2996 | AD5: 4686.2215 | AE5: 5210.147 | AF5: 7198.2101 | AG5: 6857.9755 | AH5: 4957.8583 | AI5: 5764.5808 | AJ5: 8516.6319 | AK5: 8132.2247 | AL5: 6077.2019 | AM5: 6788.6017 | AN5: 9783.5429 | AO5: 9254.7944 | AP5: 7442.6774 | AQ5: 8139.5217 | AR5: 11105.992 | AS5: 10553.418 | AT5: 8569.3278 | AU5: 8657.3079 | AV5: 11988.582 | AW5: 11910.841 | AX5: 95589.895 | AY5: 98547.272 | AZ5: 143952.64 | BA5: 141350.82 | BB5: 10059.623 | BC5: 10980.385 | BD5: 15986.815 | BE5: 16246.321 | BF5: 10137.038 | BG5: 11293.994 | BH5: 17791.715 | BI5: 17256.233
A6: 1. Crop Production | B6: 2262.1781 | C6: 2561.4601 | D6: 3660.0972 | E6: 3200.161 | F6: 2389.9461 | G6: 2610.1765 | H6: 3925.0457 | I6: 3559.6809 | J6: 2688.3108 | K6: 2901.3872 | L6: 4259.3629 | M6: 4222.1746 | N6: 2815.2223 | O6: 3049.0631 | P6: 4528.6831 | Q6: 4469.3563 | R6: 2950.4352 | S6: 3223.2362 | T6: 4926.1526 | U6: 4712.7466 | V6: 3141.3246 | W6: 3511.3004 | X6: 5383.1326 | Y6: 5154.2155 | Z6: 3583.9802 | AA6: 4017.0836 | AB6: 5801.0281 | AC6: 5480.9896 | AD6: 3969.5153 | AE6: 4530.1284 | AF6: 6536.5848 | AG6: 6059.8768 | AH6: 4201.1589 | AI6: 5040.5374 | AJ6: 7761.398 | AK6: 7204.7036 | AL6: 5174.3933 | AM6: 5947.4536 | AN6: 8963.2019 | AO6: 8211.8782 | AP6: 6410.6472 | AQ6: 7198.3456 | AR6: 10192.217 | AS6: 9376.3283 | AT6: 7218.2981 | AU6: 7553.5345 | AV6: 10962.877 | AW6: 10614.697 | AX6: 81292.938 | AY6: 86550.358 | AZ6: 132413.28 | BA6: 126516.76 | BB6: 8736.5465 | BC6: 9669.866 | BD6: 14746.54 | BE6: 14626.332 | BF6: 8918.1855 | BG6: 9879.6139 | BH6: 16418.58 | BI6: 15651.244
A7: 2. Livestock | B7: 237.29751 | C7: 216.1037 | D7: 247.97043 | E7: 278.19242 | F7: 270.20686 | G7: 278.13048 | H7: 257.17866 | I7: 310.08592 | J7: 298.22377 | K7: 284.66224 | L7: 304.19143 | M7: 364.85392 | N7: 334.45446 | O7: 321.46566 | P7: 337.66327 | Q7: 405.90134 | R7: 375.06511 | S7: 361.15377 | T7: 379.38696 | U7: 457.44675 | V7: 420.99306 | W7: 400.92491 | X7: 418.84785 | Y7: 507.25922 | Z7: 464.96911 | AA7: 437.82787 | AB7: 433.40139 | AC7: 539.58499 | AD7: 487.87092 | AE7: 474.21364 | AF7: 465.64241 | AG7: 546.72078 | AH7: 479.988 | AI7: 481.74601 | AJ7: 495.60598 | AK7: 591.26216 | AL7: 514.93201 | AM7: 500.68074 | AN7: 497.42238 | AO7: 595.9099 | AP7: 509.54773 | AQ7: 503.34158 | AR7: 509.94641 | AS7: 598.53501 | AT7: 613.7153 | AU7: 508.07408 | AV7: 517.77335 | AW7: 609.77704 | AX7: 6567.8689 | AY7: 5844.0634 | AZ7: 6304.2268 | BA7: 7486.7741 | BB7: 504.67515 | BC7: 0.66299195 | BD7: 711.81959 | BE7: 846.2607 | BF7: 405.64913 | BG7: 738.84646 | BH7: 840.33802 | BI7: 834.26499
A8: 3. Forestry | B8: 30.420966 | C8: 34.382273 | D8: 33.750812 | E8: 37.166851 | F8: 32.302813 | G8: 40.38684 | H8: 37.897559 | I8: 42.4581 | J8: 38.367071 | K8: 42.73314 | L8: 41.480154 | M8: 47.579298 | N8: 41.80011 | O8: 47.550557 | P8: 45.665859 | Q8: 52.933658 | R8: 46.245351 | S8: 52.523332 | T8: 49.973135 | U8: 58.997762 | V8: 51.584656 | W8: 56.572978 | X8: 52.31573 | Y8: 62.353383 | Z8: 53.486949 | AA8: 59.790685 | AB8: 54.677387 | AC8: 68.299963 | AD8: 58.24418 | AE8: 66.980174 | AF8: 60.618561 | AG8: 71.366541 | AH8: 60.02407 | AI8: 70.007687 | AJ8: 65.263977 | AK8: 77.494903 | AL8: 65.980467 | AM8: 77.863368 | AN8: 66.570451 | AO8: 75.46438 | AP8: 64.114313 | AQ8: 75.495308 | AR8: 69.162828 | AS8: 76.017374 | AT8: 73.327716 | AU8: 75.767013 | AV8: 70.037826 | AW8: 77.823385 | AX8: 755.12631 | AY8: 882.51579 | AZ8: 831.61955 | BA8: 1019.0939 | BB8: 88.969718 | BC8: 107.36258 | BD8: 96.855005 | BE8: 139.43433 | BF8: 93.194817 | BG8: 114.20065 | BH8: 108.62906 | BI8: 144.4089
A9: 4. Fishing | B9: 64.863303 | C9: 61.431544 | D9: 58.210173 | E9: 65.206456 | F9: 76.009943 | G9: 72.006566 | H9: 63.136049 | I9: 73.176864 | J9: 82.606144 | K9: 81.081099 | L9: 71.861492 | M9: 87.122293 | N9: 94.636445 | O9: 93.051482 | P9: 80.192465 | Q9: 98.912837 | R9: 108.21883 | S9: 108.36144 | T9: 95.238364 | U9: 113.43147 | V9: 124.95792 | W9: 119.84428 | X9: 105.17169 | Y9: 126.17031 | Z9: 165.45483 | AA9: 115.157 | AB9: 109.35582 | AC9: 138.42501 | AD9: 170.59117 | AE9: 138.8248 | AF9: 135.36439 | AG9: 180.01139 | AH9: 216.68729 | AI9: 172.28975 | AJ9: 194.36391 | AK9: 258.76408 | AL9: 321.89613 | AM9: 262.60399 | AN9: 256.34816 | AO9: 371.54192 | AP9: 458.3682 | AQ9: 362.33921 | AR9: 334.66548 | AS9: 502.53755 | AT9: 663.9867 | AU9: 519.93227 | AV9: 437.89338 | AW9: 608.54352 | AX9: 6973.962 | AY9: 5270.335 | AZ9: 4403.5193 | BA9: 6328.1922 | BB9: 729.4319 | BC9: 540.16414 | BD9: 431.60035 | BE9: 634.29365 | BF9: 720.00878 | BG9: 561.3328 | BH9: 424.16881 | BI9: 626.31594
A10: B. INDUSTRY | B10: 3284.2909 | C10: 3314.2129 | D10: 3422.531 | E10: 3805.3991 | F10: 4437.6571 | G10: 4455.2409 | H10: 4373.7072 | I10: 4586.5089 | J10: 5009.2517 | K10: 4806.5053 | L10: 5172.0639 | M10: 4599.9004 | N10: 5285.8006 | O10: 5007.0332 | P10: 5352.6998 | Q10: 5208.3118 | R10: 5657.6153 | S10: 5777.5219 | T10: 5464.577 | U10: 5313.2915 | V10: 4575.7545 | W10: 4999.5506 | X10: 4832.3772 | Y10: 4780.8944 | Z10: 3968.6904 | AA10: 4233.408 | AB10: 4866.4701 | AC10: 5572.5973 | AD10: 5767.0399 | AE10: 6284.6305 | AF10: 6852.0605 | AG10: 6736.1714 | AH10: 7877.6 | AI10: 8661.5713 | AJ10: 8560.7366 | AK10: 8118.4218 | AL10: 8916.938 | AM10: 9946.137 | AN10: 10830.869 | AO10: 10185.747 | AP10: 10509.175 | AQ10: 9402.7785 | AR10: 11472.099 | AS10: 12146.731 | AT10: 13305.518 | AU10: 12267.531 | AV10: 14565.922 | AW10: 15162.002 | AX10: 150901.56 | AY10: 139362.39 | AZ10: 165143.39 | BA10: 167382.54 | BB10: 17905.773 | BC10: 17319.775 | BD10: 20691.051 | BE10: 20469.706 | BF10: 19821.948 | BG10: 17659.311 | BH10: 21755.038 | BI10: 23035.715
A11: 1. Mining and Quarrying | B11: 1952.2131 | C11: 1993.6834 | D11: 2104.9181 | E11: 2403.7396 | F11: 2899.2356 | G11: 2842.9673 | H11: 2681.9977 | I11: 2674.7771 | J11: 3036.4908 | K11: 2732.2696 | L11: 3100.9942 | M11: 2516.7681 | N11: 2776.8315 | O11: 2346.2723 | P11: 2756.9989 | Q11: 2500.869 | R11: 2636.1338 | S11: 2656.6294 | T11: 2352.3543 | U11: 2071.6433 | V11: 1418.2929 | W11: 1771.881 | X11: 1565.8508 | Y11: 1343.984 | Z11: 894.87582 | AA11: 986.63123 | AB11: 1633.0516 | AC11: 1954.9865 | AD11: 2153.7307 | AE11: 2455.6426 | AF11: 3214.6241 | AG11: 2657.9751 | AH11: 3937.5587 | AI11: 3781.7312 | AJ11: 3521.3806 | AK11: 2407.9939 | AL11: 3176.7323 | AM11: 3145.6599 | AN11: 3732.095 | AO11: 2714.9366 | AP11: 2841.0357 | AQ11: 2641.6557 | AR11: 2988.597 | AS11: 2380.4781 | AT11: 2837.3775 | AU11: 2464.1419 | AV11: 2849.6601 | AW11: 2586.4025 | AX11: 35734.827 | AY11: 36900.278 | AZ11: 38260.671 | BA11: 25586.872 | BB11: 3447.6702 | BC11: 3427.4923 | BD11: 5046.538 | BE11: 2944.3157 | BF11: 4624.6019 | BG11: 3414.7141 | BH11: 5488.0323 | BI11: 4960.5998
A12: a. Crude Petroleum and Natural Gas | B12: 1937.6318 | C12: 1983.895 | D12: 2092.029 | E12: 2389.1207 | F12: 2882.7296 | G12: 2830.8539 | H12: 2667.5172 | I12: 2658.3076 | J12: 3018.5711 | K12: 2717.0071 | L12: 3083.2571 | M12: 2496.198 | N12: 2756.3133 | O12: 2327.5873 | P12: 2736.082 | Q12: 2476.3446 | R12: 2612.0662 | S12: 2633.3286 | T12: 2328.2578 | U12: 2042.8369 | V12: 1391.0917 | W12: 1746.4006 | X12: 1539.6814 | Y12: 1313.2434 | Z12: 887.48993 | AA12: 959.56314 | AB12: 1602.7162 | AC12: 1917.5534 | AD12: 2141.9641 | AE12: 2420.3544 | AF12: 3176.458 | AG12: 2617.1696 | AH12: 3921.2872 | AI12: 3728.9899 | AJ12: 3452.4857 | AK12: 2321.1111 | AL12: 3148.35 | AM12: 3059.6673 | AN12: 3624.3344 | AO12: 2568.074 | AP12: 2827.1604 | AQ12: 2519.995 | AR12: 2782.3764 | AS12: 2066.0941 | AT12: 2822.469 | AU12: 2264.1044 | AV12: 2554.8611 | AW12: 1994.5834 | AX12: 35534.103 | AY12: 33851.358 | AZ12: 33484.923 | BA12: 16857.196 | BB12: 3417.3986 | BC12: 2940.8269 | BD12: 4682.0427 | BE12: 2065.8836 | BF12: 4552.9757 | BG12: 3165.4403 | BH12: 5378.2271 | BI12: 3995.6979
A13: b. Coal Mining | B13: 1.1123514 | C13: 0.86130544 | D13: 0.40053818 | E13: 0.84403585 | F13: 1.3016236 | G13: 1.061699 | H13: 0.4873122 | I13: 1.0337454 | J13: 1.4475755 | K13: 1.3336192 | L13: 0.57733258 | M13: 1.2410173 | N13: 1.7300024 | O13: 1.6400416 | P13: 0.68365229 | Q13: 1.4816345 | R13: 2.0627598 | S13: 2.0660712 | T13: 0.87418459 | U13: 1.9243371 | V13: 2.438931 | W13: 2.4403449 | X13: 0.96693841 | Y13: 2.1371886 | Z13: 2.6111447 | AA13: 2.4662377 | AB13: 0.97719793 | AC13: 2.439747 | AD13: 3.1147005 | AE13: 3.0032171 | AF13: 0.66651473 | AG13: 2.6507949 | AH13: 3.2772813 | AI13: 3.1997761 | AJ13: 0.77970067 | AK13: 2.5253443 | AL13: 5.1570304 | AM13: 4.1199697 | AN13: 1.120291 | AO13: 2.5103531 | AP13: 3.308755 | AQ13: 4.8924452 | AR13: 1.0923497 | AS13: 2.1867945 | AT13: 3.7757513 | AU13: 7.4398503 | AV13: 1.1863787 | AW13: 3.9330966 | AX13: 42.499584 | AY13: 127.24218 | AZ13: 8.192496 | BA13: 44.061994 | BB13: 4.9762584 | BC13: 12.970531 | BD13: 2.1526641 | BE13: 4.8534611 | BF13: 2.6896626 | BG13: 6.8660228 | BH13: 0.80875677 | BI13: -1.074162
A14: c. Metal Ores | B14: 0.8144751 | C14: 0.66427174 | D14: 0.54712125 | E14: 0.32897521 | F14: 0.90324642 | G14: 0.81730155 | H14: 0.62164277 | I14: 0.37154558 | J14: 0.92572311 | K14: 0.92365788 | L14: 0.65748639 | M14: 0.39718215 | N14: 1.0283155 | O14: 1.1151494 | P14: 0.75178106 | Q14: 0.45473321 | R14: 1.1644805 | S14: 1.3965519 | T14: 0.94198925 | U14: 0.57640167 | V14: 1.3033398 | W14: 1.5137206 | X14: 1.022119 | Y14: 0.62233676 | Z14: 2.1204367 | AA14: 1.6521002 | AB14: 1.1969955 | AC14: 0.77320101 | AD14: 3.4903129 | AE14: 1.8966654 | AF14: 1.4692604 | AG14: 1.0769571 | AH14: 5.2308684 | AI14: 2.2565377 | AJ14: 2.0472357 | AK14: 1.3693773 | AL14: 4.7943457 | AM14: 2.5977571 | AN14: 2.2315123 | AO14: 1.5197509 | AP14: 5.2124789 | AQ14: 2.5951567 | AR14: 2.1897028 | AS14: 1.5613146 | AT14: 7.6129607 | AU14: 3.5748177 | AV14: 3.8458826 | AW14: 2.5239793 | AX14: 117.0662 | AY14: 30.363384 | AZ14: 58.254219 | BA14: 30.973258 | BB14: 20.945799 | BC14: 8.6960712 | BD14: 10.640912 | BE14: 3.9379654 | BF14: 67.209632 | BG14: 14.119675 | BH14: 16.532814 | BI14: 5.6520768
A15: d. Quarrying and Other Minerals | B15: 12.65448 | C15: 8.2628244 | D15: 11.941492 | E15: 13.445925 | F15: 14.30113 | G15: 10.234429 | H15: 13.371511 | I15: 15.064149 | J15: 15.546485 | K15: 13.005204 | L15: 16.502203 | M15: 18.931908 | N15: 17.759873 | O15: 15.929864 | P15: 19.481409 | Q15: 22.587978 | R15: 20.840361 | S15: 19.838131 | T15: 22.280342 | U15: 26.305686 | V15: 23.458866 | W15: 21.526407 | X15: 24.180391 | Y15: 27.981171 | Z15: 2.6543082 | AA15: 22.949745 | AB15: 28.161235 | AC15: 34.220152 | AD15: 5.1615143 | AE15: 30.388328 | AF15: 36.030337 | AG15: 37.077763 | AH15: 7.7633597 | AI15: 47.285003 | AJ15: 66.067912 | AK15: 82.9881 | AL15: 18.430925 | AM15: 79.274937 | AN15: 104.40879 | AO15: 142.83246 | AP15: 5.3540084 | AQ15: 114.17303 | AR15: 202.93859 | AS15: 310.6359 | AT15: 3.5198718 | AU15: 189.02284 | AV15: 289.76673 | AW15: 585.36201 | AX15: 41.157527 | AY15: 2891.3143 | AZ15: 4709.301 | BA15: 8654.6414 | BB15: 4.3495339 | BC15: 464.99874 | BD15: 351.70171 | BE15: 869.64061 | BF15: 1.7268751 | BG15: 228.28811 | BH15: 92.463635 | BI15: 960.32395
A16: 2. Manufacturing | B16: 875.40817 | C16: 880.63678 | D16: 892.14645 | E16: 930.45031 | F16: 1020.3061 | G16: 1106.8259 | H16: 1177.4581 | I16: 1222.8549 | J16: 1368.914 | K16: 1361.3411 | L16: 1460.3036 | M16: 1398.263 | N16: 1761.411 | O16: 1775.974 | P16: 1844.6538 | Q16: 1851.2837 | R16: 2114.5274 | S16: 2122.923 | T16: 2242.7701 | U16: 2205.2095 | V16: 2140.8868 | W16: 2124.5097 | X16: 2350.3417 | Y16: 2358.0349 | Z16: 2077.0441 | AA16: 2102.8645 | AB16: 2281.4412 | AC16: 2441.8865 | AD16: 2422.5047 | AE16: 2438.589 | AF16: 2516.8623 | AG16: 2666.5289 | AH16: 2638.8226 | AI16: 2914.5061 | AJ16: 3340.5825 | AK16: 3561.6166 | AL16: 3600.596 | AM16: 4015.8094 | AN16: 4666.5874 | AO16: 4498.0712 | AP16: 4625.8451 | AQ16: 4010.3455 | AR16: 5298.6758 | AS16: 5604.6838 | AT16: 6110.6452 | AU16: 5547.4686 | AV16: 7032.8614 | AW16: 7034.8933 | AX16: 68265.775 | AY16: 58364.026 | AZ16: 71872.979 | BA16: 76582.389 | BB16: 8045.0264 | BC16: 7.581403 | BD16: 9817.1784 | BE16: 10573.119 | BF16: 8705.3304 | BG16: 7725.9716 | BH16: 10172.988 | BI16: 10881.836
... A54: 9. Administrative and Support Services | B54: 3.2017208 | C54: 3.4231411 | D54: 3.3137443 | E54: 3.2015325 | F54: 3.5578812 | G54: 3.5945569 | H54: 3.8156505 | I54: 3.8386789 | J54: 3.5584203 | K54: 4.0873862 | L54: 4.2168171 | M54: 4.2077767 | N54: 3.8349306 | O54: 4.6129976 | P54: 4.7467401 | Q54: 4.6971845 | R54: 4.3002745 | S54: 4.9430823 | T54: 5.2161926 | U54: 5.2634966 | V54: 4.9111561 | W54: 5.5479574 | X54: 5.863645 | Y54: 5.9288676 | Z54: 5.4165761 | AA54: 6.1355562 | AB54: 6.8928189 | AC54: 7.0798569 | AD54: 6.1994185 | AE54: 6.4311509 | AF54: 7.0932118 | AG54: 7.3070709 | AH54: 6.1951654 | AI54: 6.3473592 | AJ54: 7.437145 | AK54: 7.6152512 | AL54: 6.5312073 | AM54: 6.689039 | AN54: 7.8648104 | AO54: 7.9141111 | AP54: 6.5752062 | AQ54: 6.657564 | AR54: 7.9733402 | AS54: 7.6902467 | AT54: 6.6954088 | AU54: 7.020607 | AV54: 8.4571401 | AW54: 7.9480419 | AX54: 74.549638 | AY54: 78.564238 | AZ54: 94.658067 | BA54: 89.784873 | BB54: 7.1678318 | BC54: 8.0848646 | BD54: 9.8785663 | BE54: 9.2997287 | BF54: 7.6470078 | BG54: 11.86749 | BH54: 13.495242 | BI54: 13.434357
A55: 10. Public Administration | B55: 497.14468 | C55: 479.66473 | D55: 471.73197 | E55: 549.92949 | F55: 617.91539 | G55: 589.60132 | H55: 582.19264 | I55: 681.52929 | J55: 501.808 | K55: 549.98535 | L55: 529.43007 | M55: 628.82233 | N55: 527.62865 | O55: 600.22731 | P55: 572.51371 | Q55: 684.53391 | R55: 609.22299 | S55: 656.6917 | T55: 629.17974 | U55: 749.13787 | V55: 577.3311 | W55: 639.27535 | X55: 599.90944 | Y55: 735.93385 | Z55: 614.13042 | AA55: 691.74757 | AB55: 679.963 | AC55: 797.98774 | AD55: 680.03773 | AE55: 748.99723 | AF55: 689.9957 | AG55: 802.55471 | AH55: 671.40166 | AI55: 725.46714 | AJ55: 702.38188 | AK55: 826.84431 | AL55: 598.65442 | AM55: 723.87469 | AN55: 725.17265 | AO55: 849.05663 | AP55: 560.76403 | AQ55: 752.97611 | AR55: 770.80365 | AS55: 887.04245 | AT55: 570.38851 | AU55: 744.99566 | AV55: 789.8434 | AW55: 902.75784 | AX55: 6240.5046 | AY55: 8332.1938 | AZ55: 8704.339 | BA55: 10056.842 | BB55: 641.95296 | BC55: 859.14276 | BD55: 902.04126 | BE55: 1047.5538 | BF55: 710.04451 | BG55: 1267.6588 | BH55: 1233.8841 | BI55: 1526.0633 | BJ55: 1000
A56: 11. Education | B56: 205.68666 | C56: 212.77367 | D56: 203.30479 | E56: 204.9065 | F56: 242.29309 | G56: 231.6686 | H56: 275.52585 | I56: 361.23351 | J56: 275.01316 | K56: 262.14728 | L56: 311.19683 | M56: 404.36439 | N56: 330.26949 | O56: 313.32237 | P56: 406.30975 | Q56: 500.03233 | R56: 387.18928 | S56: 351.20795 | T56: 472.16913 | U56: 593.83862 | V56: 444.94686 | W56: 408.54807 | X56: 558.70141 | Y56: 704.15211 | Z56: 515.9756 | AA56: 473.76631 | AB56: 646.09643 | AC56: 810.11313 | AD56: 587.78816 | AE56: 513.9972 | AF56: 667.85053 | AG56: 821.22013 | AH56: 597.24217 | AI56: 537.20662 | AJ56: 709.2668 | AK56: 890.81151 | AL56: 654.82102 | AM56: 596.79781 | AN56: 762.88633 | AO56: 954.81112 | AP56: 700.85255 | AQ56: 464.9869 | AR56: 642.71494 | AS56: 898.88449 | AT56: 698.77261 | AU56: 497.39321 | AV56: 692.53478 | AW56: 916.27152 | AX56: 7538.6454 | AY56: 5283.6466 | AZ56: 7293.3352 | BA56: 10121.814 | BB56: 764.58008 | BC56: 545.46753 | BD56: 754.77481 | BE56: 1050.0884 | BF56: 817.34756 | BG56: 579.90389 | BH56: 829.37816 | BI56: 1163.9249
A57: 12. Human Health & Social Services | B57: 85.5958 | C57: 81.771554 | D57: 79.487785 | E57: 84.108522 | F57: 99.42102 | G57: 102.04699 | H57: 90.57538 | I57: 95.151214 | J57: 104.01953 | K57: 120.72437 | L57: 106.04327 | M57: 112.15214 | N57: 117.49889 | O57: 143.65072 | P57: 125.18177 | Q57: 132.40452 | R57: 137.75294 | S57: 153.87002 | T57: 155.53286 | U57: 167.86991 | V57: 151.2543 | W57: 170.86035 | X57: 173.20204 | Y57: 187.38035 | Z57: 165.05226 | AA57: 186.44684 | AB57: 191.16352 | AC57: 202.91955 | AD57: 186.24385 | AE57: 195.75921 | AF57: 195.99893 | AG57: 206.8008 | AH57: 187.5704 | AI57: 206.1935 | AJ57: 206.82774 | AK57: 221.09949 | AL57: 203.88634 | AM57: 238.49835 | AN57: 220.94972 | AO57: 232.85786 | AP57: 218.22797 | AQ57: 238.34038 | AR57: 240.62213 | AS57: 254.15212 | AT57: 241.87949 | AU57: 264.84606 | AV57: 267.57329 | AW57: 268.62072 | AX57: 2741.7268 | AY57: 3008.0333 | AZ57: 3086.5947 | BA57: 3085.683 | BB57: 282.9418 | BC57: 310.19569 | BD57: 322.04415 | BE57: 339.44885 | BF57: 322.09412 | BG57: 345.08518 | BH57: 365.00801 | BI57: 386.88764
A58: 13. Other Services | B58: 273.50537 | C58: 188.3942 | D58: 197.52904 | E58: 240.59426 | F58: 300.48663 | G58: 222.20008 | H58: 213.86028 | I58: 264.42314 | J58: 435.14272 | K58: 379.94796 | L58: 340.86012 | M58: 528.52871 | N58: 647.782 | O58: 456.73642 | P58: 400.91919 | Q58: 517.8322 | R58: 682.89525 | S58: 574.00551 | T58: 517.6396 | U58: 798.67003 | V58: 895.66652 | W58: 727.60798 | X58: 658.71198 | Y58: 1013.217 | Z58: 1076.7048 | AA58: 874.9757 | AB58: 805.30668 | AC58: 1232.1049 | AD58: 1237.6783 | AE58: 953.94099 | AF58: 837.31261 | AG58: 1287.7823 | AH58: 1271.2043 | AI58: 1001.2641 | AJ58: 885.09386 | AK58: 1347.5442 | AL58: 1352.334 | AM58: 1060.527 | AN58: 917.68146 | AO58: 1404.3194 | AP58: 1402.4762 | AQ58: 918.417 | AR58: 870.82816 | AS58: 1379.5471 | AT58: 1396.7836 | AU58: 930.10531 | AV58: 900.17939 | AW58: 1410.9376 | AX58: 15464.116 | AY58: 10508.938 | AZ58: 9435.9532 | BA58: 15505.614 | BB58: 1246.491 | BC58: 1078.4105 | BD58: 964.26317 | BE58: 1581.4342 | BF58: 1103.7304 | BG58: 1364.5939 | BH58: 1327.194 | BI58: 1729.0424
A59: TOTAL GDP at Current Basic Prices | B59: 12583.478 | C59: 12934.531 | D59: 14304.438 | E59: 14789.817 | F59: 14501.448 | G59: 15054.961 | H59: 16163.642 | I59: 17260.346 | J59: 16450.36 | K59: 17743.633 | L59: 18521.601 | M59: 18998.342 | N59: 18295.632 | O59: 19931.016 | P59: 20464.396 | Q59: 21401.52 | R59: 20169.778 | S59: 21734.83 | T59: 22933.144 | U59: 24205.863 | V59: 21041.701 | W59: 22859.153 | X59: 24313.637 | Y59: 25930.469 | Z59: 22235.315 | AA59: 23547.467 | AB59: 26537.651 | AC59: 29169.059 | AD59: 26028.356 | AE59: 27030.25 | AF59: 29377.674 | AG59: 31275.354 | AH59: 28438.604 | AI59: 30699.567 | AJ59: 33368.049 | AK59: 35230.608 | AL59: 31824.35 | AM59: 35001.878 | AN59: 37806.924 | AO59: 39577.34 | AP59: 35647.406 | AQ59: 34023.198 | AR59: 39089.461 | AS59: 43564.006 | AT59: 40014.483 | AU59: 39123.713 | AV59: 45113.448 | AW59: 49276.018 | AX59: 45317.823 | AY59: 45004.521 | AZ59: 52255.81 | BA59: 56757.89 | BB59: 51242.151 | BC59: 52103.927 | BD59: 60658.6 | BE59: 65908.259 | BF59: 58855.142 | BG59: 60930.001 | BH59: 71131.091 | BI59: 78374.121
A61: Net Taxes on Products | B61: 206.90004 | C61: 206.97428 | D61: 212.15065 | E61: 231.06116 | F61: 184.666 | G61: 174.83784 | H61: 205.27193 | I61: 168.1864 | J61: 224.73991 | K61: 224.6693 | L61: 213.70352 | M61: 222.58218 | N61: 226.55316 | O61: 218.65847 | P61: 239.42862 | Q61: 232.76098 | R61: 212.1255 | S61: 222.61619 | T61: 299.67538 | U61: 358.95233 | V61: 200.84198 | W61: 221.75816 | X61: 314.11534 | Y61: 296.05975 | Z61: 200.14901 | AA61: 189.83058 | AB61: 333.35975 | AC61: 362.5865 | AD61: 200.49549 | AE61: 236.14445 | AF61: 378.33631 | AG61: 372.63903 | AH61: 244.34151 | AI61: 255.73032 | AJ61: 412.9807 | AK61: 437.02711 | AL61: 261.77054 | AM61: 299.07686 | AN61: 415.41498 | AO61: 452.38493 | AP61: 322.49509 | AQ61: 313.7 | AR61: 625.2608 | AS61: 666.79241 | AT61: 493.20283 | AU61: 491.12494 | AV61: 736.83308 | AW61: 826.67868 | AX61: 584.8196 | AY61: 500.76454 | AZ61: 920.70473 | BA61: 1022.6941 | BB61: 705.03846 | BC61: 651.95722 | BD61: 1395.7553 | BE61: 1760.2256 | BF61: 1421.7318 | BG61: 1302.7192 | BH61: 2623.9912 | BI61: 2854.9844
A63: Total GDP at Current Market Prices | B63: 12790.378 | C63: 13141.505 | D63: 14516.589 | E63: 15020.878 | F63: 14686.114 | G63: 15229.799 | H63: 16368.914 | I63: 17428.532 | J63: 16675.099 | K63: 17968.302 | L63: 18735.304 | M63: 19220.925 | N63: 18522.185 | O63: 20149.674 | P63: 20703.825 | Q63: 21634.281 | R63: 20381.904 | S63: 21957.446 | T63: 23232.819 | U63: 24564.816 | V63: 21242.543 | W63: 23080.911 | X63: 24627.752 | Y63: 26226.529 | Z63: 22435.464 | AA63: 23737.297 | AB63: 26871.011 | AC63: 29531.645 | AD63: 26228.852 | AE63: 27266.395 | AF63: 29756.01 | AG63: 31647.993 | AH63: 28682.946 | AI63: 30955.297 | AJ63: 33781.03 | AK63: 35667.635 | AL63: 32086.12 | AM63: 35300.955 | AN63: 38222.339 | AO63: 40029.725 | AP63: 35969.901 | AQ63: 34336.898 | AR63: 39714.721 | AS63: 44230.799 | AT63: 40507.686 | AU63: 39614.838 | AV63: 45850.281 | AW63: 50102.697 | AX63: 45902.643 | AY63: 45505.285 | AZ63: 53176.514 | BA63: 57780.584 | BB63: 51947.19 | BC63: 52755.884 | BD63: 62054.356 | BE63: 67668.484 | BF63: 60276.874 | BG63: 62232.72 | BH63: 73755.082 | BI63: 81229.105
A64: Source: National Bureau of Statistics
A65: Note 1Provisional

Sheet C1.5
A1: Return to Menu
A2: Table C.1.5: Gross Domestic Product at 2010 Constant Basic Prices - Quarterly1 (₦' Billion)
A3: Activity Sector | B3: 2010 | F3: 2011 | H3: 2011 | J3: 2012 | N3: 2013 | R3: 2014 | T3: 2014 | V3: 2015 | Z3: 2016 | AD3: 2017 | AF3: 2017 | AH3: 2018 | AL3: 2019 | AP3: 2020 1 | AT3: 2021 1 | AX3: 2022 1 | BB3: 2023 1 | BF3: 2024 1
B4: Q1 | C4: Q2 | D4: Q3 | E4: Q4 | F4: Q1 | G4: Q2 | H4: Q3 | I4: Q4 | J4: Q1 | K4: Q2 | L4: Q3 | M4: Q4 | N4: Q1 | O4: Q2 | P4: Q3 | Q4: Q4 | R4: Q1 | S4: Q2 | T4: Q3 | U4: Q4 | V4: Q1 | W4: Q2 | X4: Q3 | Y4: Q4 | Z4: Q1 | AA4: Q2 | AB4: Q3 | AC4: Q4 | AD4: Q1 | AE4: Q2 | AF4: Q3 | AG4: Q4 | AH4: Q1 | AI4: Q2 | AJ4: Q3 | AK4: Q4 | AL4: Q1 | AM4: Q2 | AN4: Q3 | AO4: Q4 | AP4: Q1 | AQ4: Q2 | AR4: Q3 | AS4: Q4 | AT4: Q1 | AU4: Q2 | AV4: Q3 | AW4: Q4 | AX4: Q1 | AY4: Q2 | AZ4: Q3 | BA4: Q4 | BB4: Q1 | BC4: Q2 | BD4: Q3 | BE4: Q4 | BF4: Q1 2024 1 | BG4: Q2 2024 1 | BH4: Q3 2024 1 | BI4: Q4 2024 1
A5: A. AGRICULTURE | B5: 2594.7599 | C5: 2873.3776 | D5: 4000.0286 | E5: 3580.7267 | F5: 2653.8641 | G5: 2955.2908 | H5: 4130.5703 | I5: 3689.6536 | J5: 2805.8034 | K5: 3160.0947 | L5: 4307.9667 | M5: 4055.8408 | N5: 2874.8491 | O5: 3241.1764 | P5: 4456.1058 | Q5: 4178.3919 | R5: 3033.9704 | S5: 3360.4505 | T5: 4655.3222 | U5: 4330.6463 | V5: 3176.5981 | W5: 3477.8452 | X5: 4816.5191 | Y5: 4481.2576 | Z5: 3274.725 | AA5: 3635.5331 | AB5: 5035.0691 | AC5: 4662.0101 | AD5: 3385.6008 | AE5: 3745.0916 | AF5: 5189.366 | AG5: 4859.4369 | AH5: 3487.3129 | AI5: 3789.7201 | AJ5: 5288.3392 | AK5: 4978.7755 | AL5: 3597.9161 | AM5: 3857.7056 | AN5: 5408.9789 | AO5: 5093.9831 | AP5: 3677.1535 | AQ5: 3918.6684 | AR5: 5484.0639 | AS5: 5268.2901 | AT5: 3760.8806 | AU5: 3969.6972 | AV5: 5550.9409 | AW5: 5456.8958 | AX5: 3879.7319 | AY5: 4017.4237 | AZ5: 5625.3623 | BA5: 5568.5549 | BB5: 3844.8452 | BC5: 4077.7163 | BD5: 5698.2705 | BE5: 5685.6582 | BF5: 3851.8871 | BG5: 4135.1342 | BH5: 5763.3852 | BI5: 5785.4724
